Workbook

Sheet Özet
A1: Personel Prim Özeti
A2: Dönemi yazın; tablo yalnız bu tarihler arasındaki satışları toplar. Ödenen primi elle girin (sarı).
A4: Dönem başı | B4: 46296
A5: Dönem sonu | B5: 46326
A7: Personel | B7: Hizmet cirosu (KDV hariç) | C7: Hak edilen prim | D7: Ödenen prim (elle girin) | E7: Kalan prim
A8: =IF(Oranlar!A5="","",Oranlar!A5) -> Ayşe | B8: =IF(A8="","",SUMIFS(Satışlar!$F$5:$F$504,Satışlar!$B$5:$B$504,A8,Satışlar!$A$5:$A$504,">="&$B$4,Satışlar!$A$5:$A$504,"<="&$B$5)) -> 4000 | C8: =IF(A8="","",SUMIFS(Satışlar!$H$5:$H$504,Satışlar!$B$5:$B$504,A8,Satışlar!$A$5:$A$504,">="&$B$4,Satışlar!$A$5:$A$504,"<="&$B$5)) -> 1575 | E8: =IF(A8="","",ROUND(C8-N(D8),2)) -> 1575
A9: =IF(Oranlar!A6="","",Oranlar!A6) -> Can | B9: =IF(A9="","",SUMIFS(Satışlar!$F$5:$F$504,Satışlar!$B$5:$B$504,A9,Satışlar!$A$5:$A$504,">="&$B$4,Satışlar!$A$5:$A$504,"<="&$B$5)) -> 1250 | C9: =IF(A9="","",SUMIFS(Satışlar!$H$5:$H$504,Satışlar!$B$5:$B$504,A9,Satışlar!$A$5:$A$504,">="&$B$4,Satışlar!$A$5:$A$504,"<="&$B$5)) -> 375 | E9: =IF(A9="","",ROUND(C9-N(D9),2)) -> 375
A10: =IF(Oranlar!A7="","",Oranlar!A7) | B10: =IF(A10="","",SUMIFS(Satışlar!$F$5:$F$504,Satışlar!$B$5:$B$504,A10,Satışlar!$A$5:$A$504,">="&$B$4,Satışlar!$A$5:$A$504,"<="&$B$5)) | C10: =IF(A10="","",SUMIFS(Satışlar!$H$5:$H$504,Satışlar!$B$5:$B$504,A10,Satışlar!$A$5:$A$504,">="&$B$4,Satışlar!$A$5:$A$504,"<="&$B$5)) | E10: =IF(A10="","",ROUND(C10-N(D10),2))
A11: =IF(Oranlar!A8="","",Oranlar!A8) | B11: =IF(A11="","",SUMIFS(Satışlar!$F$5:$F$504,Satışlar!$B$5:$B$504,A11,Satışlar!$A$5:$A$504,">="&$B$4,Satışlar!$A$5:$A$504,"<="&$B$5)) | C11: =IF(A11="","",SUMIFS(Satışlar!$H$5:$H$504,Satışlar!$B$5:$B$504,A11,Satışlar!$A$5:$A$504,">="&$B$4,Satışlar!$A$5:$A$504,"<="&$B$5)) | E11: =IF(A11="","",ROUND(C11-N(D11),2))
A12: =IF(Oranlar!A9="","",Oranlar!A9) | B12: =IF(A12="","",SUMIFS(Satışlar!$F$5:$F$504,Satışlar!$B$5:$B$504,A12,Satışlar!$A$5:$A$504,">="&$B$4,Satışlar!$A$5:$A$504,"<="&$B$5)) | C12: =IF(A12="","",SUMIFS(Satışlar!$H$5:$H$504,Satışlar!$B$5:$B$504,A12,Satışlar!$A$5:$A$504,">="&$B$4,Satışlar!$A$5:$A$504,"<="&$B$5)) | E12: =IF(A12="","",ROUND(C12-N(D12),2))
A13: =IF(Oranlar!A10="","",Oranlar!A10) | B13: =IF(A13="","",SUMIFS(Satışlar!$F$5:$F$504,Satışlar!$B$5:$B$504,A13,Satışlar!$A$5:$A$504,">="&$B$4,Satışlar!$A$5:$A$504,"<="&$B$5)) | C13: =IF(A13="","",SUMIFS(Satışlar!$H$5:$H$504,Satışlar!$B$5:$B$504,A13,Satışlar!$A$5:$A$504,">="&$B$4,Satışlar!$A$5:$A$504,"<="&$B$5)) | E13: =IF(A13="","",ROUND(C13-N(D13),2))
A14: =IF(Oranlar!A11="","",Oranlar!A11) | B14: =IF(A14="","",SUMIFS(Satışlar!$F$5:$F$504,Satışlar!$B$5:$B$504,A14,Satışlar!$A$5:$A$504,">="&$B$4,Satışlar!$A$5:$A$504,"<="&$B$5)) | C14: =IF(A14="","",SUMIFS(Satışlar!$H$5:$H$504,Satışlar!$B$5:$B$504,A14,Satışlar!$A$5:$A$504,">="&$B$4,Satışlar!$A$5:$A$504,"<="&$B$5)) | E14: =IF(A14="","",ROUND(C14-N(D14),2))
A15: =IF(Oranlar!A12="","",Oranlar!A12) | B15: =IF(A15="","",SUMIFS(Satışlar!$F$5:$F$504,Satışlar!$B$5:$B$504,A15,Satışlar!$A$5:$A$504,">="&$B$4,Satışlar!$A$5:$A$504,"<="&$B$5)) | C15: =IF(A15="","",SUMIFS(Satışlar!$H$5:$H$504,Satışlar!$B$5:$B$504,A15,Satışlar!$A$5:$A$504,">="&$B$4,Satışlar!$A$5:$A$504,"<="&$B$5)) | E15: =IF(A15="","",ROUND(C15-N(D15),2))
A16: =IF(Oranlar!A13="","",Oranlar!A13) | B16: =IF(A16="","",SUMIFS(Satışlar!$F$5:$F$504,Satışlar!$B$5:$B$504,A16,Satışlar!$A$5:$A$504,">="&$B$4,Satışlar!$A$5:$A$504,"<="&$B$5)) | C16: =IF(A16="","",SUMIFS(Satışlar!$H$5:$H$504,Satışlar!$B$5:$B$504,A16,Satışlar!$A$5:$A$504,">="&$B$4,Satışlar!$A$5:$A$504,"<="&$B$5)) | E16: =IF(A16="","",ROUND(C16-N(D16),2))
A17: =IF(Oranlar!A14="","",Oranlar!A14) | B17: =IF(A17="","",SUMIFS(Satışlar!$F$5:$F$504,Satışlar!$B$5:$B$504,A17,Satışlar!$A$5:$A$504,">="&$B$4,Satışlar!$A$5:$A$504,"<="&$B$5)) | C17: =IF(A17="","",SUMIFS(Satışlar!$H$5:$H$504,Satışlar!$B$5:$B$504,A17,Satışlar!$A$5:$A$504,">="&$B$4,Satışlar!$A$5:$A$504,"<="&$B$5)) | E17: =IF(A17="","",ROUND(C17-N(D17),2))
A18: =IF(Oranlar!A15="","",Oranlar!A15) | B18: =IF(A18="","",SUMIFS(Satışlar!$F$5:$F$504,Satışlar!$B$5:$B$504,A18,Satışlar!$A$5:$A$504,">="&$B$4,Satışlar!$A$5:$A$504,"<="&$B$5)) | C18: =IF(A18="","",SUMIFS(Satışlar!$H$5:$H$504,Satışlar!$B$5:$B$504,A18,Satışlar!$A$5:$A$504,">="&$B$4,Satışlar!$A$5:$A$504,"<="&$B$5)) | E18: =IF(A18="","",ROUND(C18-N(D18),2))
A19: =IF(Oranlar!A16="","",Oranlar!A16) | B19: =IF(A19="","",SUMIFS(Satışlar!$F$5:$F$504,Satışlar!$B$5:$B$504,A19,Satışlar!$A$5:$A$504,">="&$B$4,Satışlar!$A$5:$A$504,"<="&$B$5)) | C19: =IF(A19="","",SUMIFS(Satışlar!$H$5:$H$504,Satışlar!$B$5:$B$504,A19,Satışlar!$A$5:$A$504,">="&$B$4,Satışlar!$A$5:$A$504,"<="&$B$5)) | E19: =IF(A19="","",ROUND(C19-N(D19),2))
... A27: =IF(Oranlar!A24="","",Oranlar!A24) | B27: =IF(A27="","",SUMIFS(Satışlar!$F$5:$F$504,Satışlar!$B$5:$B$504,A27,Satışlar!$A$5:$A$504,">="&$B$4,Satışlar!$A$5:$A$504,"<="&$B$5)) | C27: =IF(A27="","",SUMIFS(Satışlar!$H$5:$H$504,Satışlar!$B$5:$B$504,A27,Satışlar!$A$5:$A$504,">="&$B$4,Satışlar!$A$5:$A$504,"<="&$B$5)) | E27: =IF(A27="","",ROUND(C27-N(D27),2))
A28: Toplam | B28: =SUM(B8:B27) -> 5250 | C28: =SUM(C8:C27) -> 1950 | D28: =SUM(D8:D27) -> 0 | E28: =SUM(E8:E27) -> 1950

Sheet Satışlar
A1: Satışlar
A2: Her hizmet satırı için tarih, personel, hizmet ve KDV dahil tutarı yazın (sarı). KDV oranı boşsa Oranlar sayfasındaki varsayılan oran kullanılır. Prim, KDV hariç tutar üzerinden hesaplanır. Örnek satırların üzerine yazın.
A4: Tarih | B4: Personel | C4: Hizmet | D4: Tutar (KDV dahil) | E4: KDV oranı (%) — boşsa varsayılan | F4: KDV hariç tutar | G4: Prim oranı (%) | H4: Prim
A5: 46301 | B5: Ayşe | C5: Boya | D5: 1800 | F5: =IF(D5="","",ROUND(D5/(1+IF(E5="",Oranlar!$B$2,E5)/100),2)) -> 1500 | G5: =IF(OR(B5="",D5=""),"",IF(COUNTIFS(Oranlar!$D$5:$D$104,B5,Oranlar!$E$5:$E$104,C5)>0,SUMIFS(Oranlar!$F$5:$F$104,Oranlar!$D$5:$D$104,B5,Oranlar!$E$5:$E$104,C5),IFERROR(VLOOKUP(B5,Oranlar!$A$5:$B$24,2,FALSE),0))) -> 40 | H5: =IF(G5="","",ROUND(F5*G5/100,2)) -> 600
A6: 46301 | B6: Can | C6: Fön | D6: 600 | F6: =IF(D6="","",ROUND(D6/(1+IF(E6="",Oranlar!$B$2,E6)/100),2)) -> 500 | G6: =IF(OR(B6="",D6=""),"",IF(COUNTIFS(Oranlar!$D$5:$D$104,B6,Oranlar!$E$5:$E$104,C6)>0,SUMIFS(Oranlar!$F$5:$F$104,Oranlar!$D$5:$D$104,B6,Oranlar!$E$5:$E$104,C6),IFERROR(VLOOKUP(B6,Oranlar!$A$5:$B$24,2,FALSE),0))) -> 30 | H6: =IF(G6="","",ROUND(F6*G6/100,2)) -> 150
A7: 46303 | B7: Ayşe | C7: Fön | D7: 600 | F7: =IF(D7="","",ROUND(D7/(1+IF(E7="",Oranlar!$B$2,E7)/100),2)) -> 500 | G7: =IF(OR(B7="",D7=""),"",IF(COUNTIFS(Oranlar!$D$5:$D$104,B7,Oranlar!$E$5:$E$104,C7)>0,SUMIFS(Oranlar!$F$5:$F$104,Oranlar!$D$5:$D$104,B7,Oranlar!$E$5:$E$104,C7),IFERROR(VLOOKUP(B7,Oranlar!$A$5:$B$24,2,FALSE),0))) -> 35 | H7: =IF(G7="","",ROUND(F7*G7/100,2)) -> 175
A8: 46308 | B8: Can | C8: Kesim | D8: 900 | F8: =IF(D8="","",ROUND(D8/(1+IF(E8="",Oranlar!$B$2,E8)/100),2)) -> 750 | G8: =IF(OR(B8="",D8=""),"",IF(COUNTIFS(Oranlar!$D$5:$D$104,B8,Oranlar!$E$5:$E$104,C8)>0,SUMIFS(Oranlar!$F$5:$F$104,Oranlar!$D$5:$D$104,B8,Oranlar!$E$5:$E$104,C8),IFERROR(VLOOKUP(B8,Oranlar!$A$5:$B$24,2,FALSE),0))) -> 30 | H8: =IF(G8="","",ROUND(F8*G8/100,2)) -> 225
A9: 46315 | B9: Ayşe | C9: Boya | D9: 2400 | F9: =IF(D9="","",ROUND(D9/(1+IF(E9="",Oranlar!$B$2,E9)/100),2)) -> 2000 | G9: =IF(OR(B9="",D9=""),"",IF(COUNTIFS(Oranlar!$D$5:$D$104,B9,Oranlar!$E$5:$E$104,C9)>0,SUMIFS(Oranlar!$F$5:$F$104,Oranlar!$D$5:$D$104,B9,Oranlar!$E$5:$E$104,C9),IFERROR(VLOOKUP(B9,Oranlar!$A$5:$B$24,2,FALSE),0))) -> 40 | H9: =IF(G9="","",ROUND(F9*G9/100,2)) -> 800
F10: =IF(D10="","",ROUND(D10/(1+IF(E10="",Oranlar!$B$2,E10)/100),2)) | G10: =IF(OR(B10="",D10=""),"",IF(COUNTIFS(Oranlar!$D$5:$D$104,B10,Oranlar!$E$5:$E$104,C10)>0,SUMIFS(Oranlar!$F$5:$F$104,Oranlar!$D$5:$D$104,B10,Oranlar!$E$5:$E$104,C10),IFERROR(VLOOKUP(B10,Oranlar!$A$5:$B$24,2,FALSE),0))) | H10: =IF(G10="","",ROUND(F10*G10/100,2))
F11: =IF(D11="","",ROUND(D11/(1+IF(E11="",Oranlar!$B$2,E11)/100),2)) | G11: =IF(OR(B11="",D11=""),"",IF(COUNTIFS(Oranlar!$D$5:$D$104,B11,Oranlar!$E$5:$E$104,C11)>0,SUMIFS(Oranlar!$F$5:$F$104,Oranlar!$D$5:$D$104,B11,Oranlar!$E$5:$E$104,C11),IFERROR(VLOOKUP(B11,Oranlar!$A$5:$B$24,2,FALSE),0))) | H11: =IF(G11="","",ROUND(F11*G11/100,2))
F12: =IF(D12="","",ROUND(D12/(1+IF(E12="",Oranlar!$B$2,E12)/100),2)) | G12: =IF(OR(B12="",D12=""),"",IF(COUNTIFS(Oranlar!$D$5:$D$104,B12,Oranlar!$E$5:$E$104,C12)>0,SUMIFS(Oranlar!$F$5:$F$104,Oranlar!$D$5:$D$104,B12,Oranlar!$E$5:$E$104,C12),IFERROR(VLOOKUP(B12,Oranlar!$A$5:$B$24,2,FALSE),0))) | H12: =IF(G12="","",ROUND(F12*G12/100,2))
F13: =IF(D13="","",ROUND(D13/(1+IF(E13="",Oranlar!$B$2,E13)/100),2)) | G13: =IF(OR(B13="",D13=""),"",IF(COUNTIFS(Oranlar!$D$5:$D$104,B13,Oranlar!$E$5:$E$104,C13)>0,SUMIFS(Oranlar!$F$5:$F$104,Oranlar!$D$5:$D$104,B13,Oranlar!$E$5:$E$104,C13),IFERROR(VLOOKUP(B13,Oranlar!$A$5:$B$24,2,FALSE),0))) | H13: =IF(G13="","",ROUND(F13*G13/100,2))
F14: =IF(D14="","",ROUND(D14/(1+IF(E14="",Oranlar!$B$2,E14)/100),2)) | G14: =IF(OR(B14="",D14=""),"",IF(COUNTIFS(Oranlar!$D$5:$D$104,B14,Oranlar!$E$5:$E$104,C14)>0,SUMIFS(Oranlar!$F$5:$F$104,Oranlar!$D$5:$D$104,B14,Oranlar!$E$5:$E$104,C14),IFERROR(VLOOKUP(B14,Oranlar!$A$5:$B$24,2,FALSE),0))) | H14: =IF(G14="","",ROUND(F14*G14/100,2))
F15: =IF(D15="","",ROUND(D15/(1+IF(E15="",Oranlar!$B$2,E15)/100),2)) | G15: =IF(OR(B15="",D15=""),"",IF(COUNTIFS(Oranlar!$D$5:$D$104,B15,Oranlar!$E$5:$E$104,C15)>0,SUMIFS(Oranlar!$F$5:$F$104,Oranlar!$D$5:$D$104,B15,Oranlar!$E$5:$E$104,C15),IFERROR(VLOOKUP(B15,Oranlar!$A$5:$B$24,2,FALSE),0))) | H15: =IF(G15="","",ROUND(F15*G15/100,2))
F16: =IF(D16="","",ROUND(D16/(1+IF(E16="",Oranlar!$B$2,E16)/100),2)) | G16: =IF(OR(B16="",D16=""),"",IF(COUNTIFS(Oranlar!$D$5:$D$104,B16,Oranlar!$E$5:$E$104,C16)>0,SUMIFS(Oranlar!$F$5:$F$104,Oranlar!$D$5:$D$104,B16,Oranlar!$E$5:$E$104,C16),IFERROR(VLOOKUP(B16,Oranlar!$A$5:$B$24,2,FALSE),0))) | H16: =IF(G16="","",ROUND(F16*G16/100,2))
F17: =IF(D17="","",ROUND(D17/(1+IF(E17="",Oranlar!$B$2,E17)/100),2)) | G17: =IF(OR(B17="",D17=""),"",IF(COUNTIFS(Oranlar!$D$5:$D$104,B17,Oranlar!$E$5:$E$104,C17)>0,SUMIFS(Oranlar!$F$5:$F$104,Oranlar!$D$5:$D$104,B17,Oranlar!$E$5:$E$104,C17),IFERROR(VLOOKUP(B17,Oranlar!$A$5:$B$24,2,FALSE),0))) | H17: =IF(G17="","",ROUND(F17*G17/100,2))
F18: =IF(D18="","",ROUND(D18/(1+IF(E18="",Oranlar!$B$2,E18)/100),2)) | G18: =IF(OR(B18="",D18=""),"",IF(COUNTIFS(Oranlar!$D$5:$D$104,B18,Oranlar!$E$5:$E$104,C18)>0,SUMIFS(Oranlar!$F$5:$F$104,Oranlar!$D$5:$D$104,B18,Oranlar!$E$5:$E$104,C18),IFERROR(VLOOKUP(B18,Oranlar!$A$5:$B$24,2,FALSE),0))) | H18: =IF(G18="","",ROUND(F18*G18/100,2))
F19: =IF(D19="","",ROUND(D19/(1+IF(E19="",Oranlar!$B$2,E19)/100),2)) | G19: =IF(OR(B19="",D19=""),"",IF(COUNTIFS(Oranlar!$D$5:$D$104,B19,Oranlar!$E$5:$E$104,C19)>0,SUMIFS(Oranlar!$F$5:$F$104,Oranlar!$D$5:$D$104,B19,Oranlar!$E$5:$E$104,C19),IFERROR(VLOOKUP(B19,Oranlar!$A$5:$B$24,2,FALSE),0))) | H19: =IF(G19="","",ROUND(F19*G19/100,2))
F20: =IF(D20="","",ROUND(D20/(1+IF(E20="",Oranlar!$B$2,E20)/100),2)) | G20: =IF(OR(B20="",D20=""),"",IF(COUNTIFS(Oranlar!$D$5:$D$104,B20,Oranlar!$E$5:$E$104,C20)>0,SUMIFS(Oranlar!$F$5:$F$104,Oranlar!$D$5:$D$104,B20,Oranlar!$E$5:$E$104,C20),IFERROR(VLOOKUP(B20,Oranlar!$A$5:$B$24,2,FALSE),0))) | H20: =IF(G20="","",ROUND(F20*G20/100,2))
F21: =IF(D21="","",ROUND(D21/(1+IF(E21="",Oranlar!$B$2,E21)/100),2)) | G21: =IF(OR(B21="",D21=""),"",IF(COUNTIFS(Oranlar!$D$5:$D$104,B21,Oranlar!$E$5:$E$104,C21)>0,SUMIFS(Oranlar!$F$5:$F$104,Oranlar!$D$5:$D$104,B21,Oranlar!$E$5:$E$104,C21),IFERROR(VLOOKUP(B21,Oranlar!$A$5:$B$24,2,FALSE),0))) | H21: =IF(G21="","",ROUND(F21*G21/100,2))
... F504: =IF(D504="","",ROUND(D504/(1+IF(E504="",Oranlar!$B$2,E504)/100),2)) | G504: =IF(OR(B504="",D504=""),"",IF(COUNTIFS(Oranlar!$D$5:$D$104,B504,Oranlar!$E$5:$E$104,C504)>0,SUMIFS(Oranlar!$F$5:$F$104,Oranlar!$D$5:$D$104,B504,Oranlar!$E$5:$E$104,C504),IFERROR(VLOOKUP(B504,Oranlar!$A$5:$B$24,2,FALSE),0))) | H504: =IF(G504="","",ROUND(F504*G504/100,2))

Sheet Oranlar
A1: Oranlar
A2: Varsayılan KDV oranı (%) | B2: 20
A3: Soldaki tabloya çalışanları ve her hizmet için geçerli varsayılan prim oranını yazın. Sağdaki tabloya yalnız farklı oran verdiğiniz hizmetleri yazın; yazılmayan hizmette varsayılan oran uygulanır, 0 yazarsanız o hizmetten prim doğmaz. Sarı hücreleri doldurun; örnek satırların üzerine yazın.
A4: Personel | B4: Varsayılan prim oranı (%) | D4: Personel | E4: Hizmet | F4: Özel prim oranı (%)
A5: Ayşe | B5: 35 | D5: Ayşe | E5: Boya | F5: 40
A6: Can | B6: 30
